BEGIN:VCALENDAR
VERSION:2.0
PRODID:-//Kultur-Artour - Kulturkalender am Oberrhein &amp; Schwarzwald - Online Magazin - ECPv5.9.0//NONSGML v1.0//EN
CALSCALE:GREGORIAN
METHOD:PUBLISH
X-WR-CALNAME:Kultur-Artour - Kulturkalender am Oberrhein &amp; Schwarzwald - Online Magazin
X-ORIGINAL-URL:https://www.kulturartour.de
X-WR-CALDESC:Veranstaltungen für Kultur-Artour - Kulturkalender am Oberrhein &amp; Schwarzwald - Online Magazin
BEGIN:VTIMEZONE
TZID:Europe/Berlin
BEGIN:DAYLIGHT
TZOFFSETFROM:+0100
TZOFFSETTO:+0200
TZNAME:CEST
DTSTART:20260329T010000
END:DAYLIGHT
BEGIN:STANDARD
TZOFFSETFROM:+0200
TZOFFSETTO:+0100
TZNAME:CET
DTSTART:20261025T010000
END:STANDARD
END:VTIMEZONE
BEGIN:VEVENT
DTSTART;VALUE=DATE:20260323
DTEND;VALUE=DATE:20260423
DTSTAMP:20260422T154915
CREATED:20260113T105100Z
LAST-MODIFIED:20260113T105100Z
UID:189338-1774224000-1776902399@www.kulturartour.de
SUMMARY:"Du und das Klima" - Kunst trifft Klimafrage
DESCRIPTION:
URL:https://www.kulturartour.de/event/du-klima-kunst-klimafrage/
LOCATION:Rheinfelden\, Rathausgalerie\, Rheinfelden\, Deutschland
CATEGORIES:Ausstellungen
END:VEVENT
END:VCALENDAR