BEGIN:VCALENDAR
VERSION:2.0
PRODID:-//Kultur-Artour - Kulturkalender am Oberrhein &amp; Schwarzwald - Online Magazin - ECPv5.9.0//NONSGML v1.0//EN
CALSCALE:GREGORIAN
METHOD:PUBLISH
X-WR-CALNAME:Kultur-Artour - Kulturkalender am Oberrhein &amp; Schwarzwald - Online Magazin
X-ORIGINAL-URL:https://www.kulturartour.de
X-WR-CALDESC:Veranstaltungen für Kultur-Artour - Kulturkalender am Oberrhein &amp; Schwarzwald - Online Magazin
BEGIN:VTIMEZONE
TZID:Europe/Berlin
BEGIN:DAYLIGHT
TZOFFSETFROM:+0100
TZOFFSETTO:+0200
TZNAME:CEST
DTSTART:20260329T010000
END:DAYLIGHT
BEGIN:STANDARD
TZOFFSETFROM:+0200
TZOFFSETTO:+0100
TZNAME:CET
DTSTART:20261025T010000
END:STANDARD
END:VTIMEZONE
BEGIN:VEVENT
DTSTART;TZID=Europe/Berlin:20261026T190000
DTEND;TZID=Europe/Berlin:20261026T190000
DTSTAMP:20260421T154533
CREATED:20260221T113225Z
LAST-MODIFIED:20260221T113225Z
UID:192484-1793041200-1793041200@www.kulturartour.de
SUMMARY:Drei Haselnüsse für Aschenbrödel - Musical Tournee 2026 / 2027
DESCRIPTION:Drei Haselnüsse für Aschenbrödel – Ein Musical\nBuch von Katrin Lange\nGesangstexte von Edith Jeske\nMusik von Thomas Zaufke\nNach dem gleichnamigen tschechisch-deutschen Märchenfilm von Václav Vorlíček und František Pavlíček\nFilm-Musik von Karel Svoboda
URL:https://www.kulturartour.de/event/drei-haselnuesse-aschenbroedel-musical/
LOCATION:Offenburg\, Oberrheinhalle\, Offenburg\, Deutschland
CATEGORIES:Musiktheater
END:VEVENT
END:VCALENDAR