BEGIN:VCALENDAR
VERSION:2.0
PRODID:-//Kultur-Artour - Kulturkalender am Oberrhein &amp; Schwarzwald - Online Magazin - ECPv5.9.0//NONSGML v1.0//EN
CALSCALE:GREGORIAN
METHOD:PUBLISH
X-WR-CALNAME:Kultur-Artour - Kulturkalender am Oberrhein &amp; Schwarzwald - Online Magazin
X-ORIGINAL-URL:https://www.kulturartour.de
X-WR-CALDESC:Veranstaltungen für Kultur-Artour - Kulturkalender am Oberrhein &amp; Schwarzwald - Online Magazin
BEGIN:VTIMEZONE
TZID:Europe/Berlin
BEGIN:DAYLIGHT
TZOFFSETFROM:+0100
TZOFFSETTO:+0200
TZNAME:CEST
DTSTART:20260329T010000
END:DAYLIGHT
BEGIN:STANDARD
TZOFFSETFROM:+0200
TZOFFSETTO:+0100
TZNAME:CET
DTSTART:20261025T010000
END:STANDARD
END:VTIMEZONE
BEGIN:VEVENT
DTSTART;VALUE=DATE:20260418
DTEND;VALUE=DATE:20260518
DTSTAMP:20260424T201456
CREATED:20260424T141633Z
LAST-MODIFIED:20260424T141715Z
UID:195588-1776470400-1779062399@www.kulturartour.de
SUMMARY:DOUBLE TAKE | Künstlerinnengespräch mit Hanna Woll & Anika Hirt
DESCRIPTION:DOUBLE TAKE\nInstallation und Objekte | Inflatables und Glas\nKünstlerinnengespräch mit Hanna Woll & Anika Hirt \nDatum: Donnerstag\, 07.05.2026\, 17 – 19 Uhr\nOrt: GEDOK Künstlerinnenforum\, Markgrafenstr. 14\, 76131 Karlsruhe\nAusstellungsdauer: Samstag\, 18.04. – Sonntag\, 17.05.2026\nÖffnungszeiten: Mi. – Fr. 17 – 19 Uhr\, Sa.\, So. und an Feiertagen 14 – 16 Uhr\nEintritt frei \nMit „Double Take“ zeigen die Bildhauerin Hanna Woll und die Medienkünstlerin Anika Hirt eine gemeinsame\, ortsspezifische Arbeit\, die den Ausstellungsraum transformiert. \nBesucher:innen finden sich zwischen Inflatables und hängenden Glasobjekten wieder. Die Objekte stehen durch ihre Materialität gleichzeitig im Kontrast und im Einklang. Einerseits durch Gewicht und Volumen\, andererseits durch ihre Oberfläche und Beweglichkeit. Alle Objekte agieren mit Licht\, reflektieren und spiegeln sich ineinander und schaffen so ein Zusammenspiel. Der Ursprung und die grundlegende Form sind Sphären. Das Material: Luft\, Folie\, Glas und Licht. Das Produkt: eine Landschaft\, die erkundet werden kann\, nicht nur im Objekt\, sondern auch im Tun. \n„Double Take“ lädt dazu ein\, die Wahrnehmung als aktiven Prozess zu begreifen und den Ausstellungsraum nicht nur zu betrachten\, sondern zu erleben. Durch wiederholtes Hinsehen eröffnen sich neue Bezüge zwischen und mit den Objekten. \nAusgehend von ihrer jeweiligen Praxis entwickeln die Künstlerinnen zusammen diese Konstellation aus Objekten\, Materialien und Strukturen. Die einzelnen Arbeiten behalten ihre Eigenständigkeit\, werden jedoch bewusst miteinander verschränkt. So entsteht ein komplexes Gefüge\, in dem sich formale\, materielle und inhaltliche Bezüge permanent verschieben. Im Zentrum der Ausstellung steht somit nicht nur das einzelne Objekt\, sondern auch das Verhältnis zwischen den Dingen: Abstände\, Überlagerungen\, Blickachsen und Durchgänge strukturieren den Raum neu. \nPressefoto: Double_Take_Vernissage_Glas_Foto_S.Asshoff-Graeter \nMit freundlicher Unterstützung der Stadt Karlsruhe. \nGEDOK Künstlerinnenforum Karlsruhe\, Markgrafenstr.14 (Ecke Fritz-Erler-Str.)\, 76131 Karlsruhe\, www.gedok-karlsruhe.de / gedok-karlsruhe@online.de / Fon: +49 (0) 721 / 37 41 37
URL:https://www.kulturartour.de/event/double-take-kuenstlerinnengespraech-hanna/
LOCATION:Karlsruhe\, Gedok\, Markgrafenstr. 14\, Karlsruhe\, Baden-Württemberg\, 76131\, Deutschland
CATEGORIES:Ausstellungen
ORGANIZER;CN="GEDOK%20Karlsruhe%20e.V.":MAILTO:gedok-karlsruhe@online.de
GEO:49.0078762;8.4104609
X-APPLE-STRUCTURED-LOCATION;VALUE=URI;X-ADDRESS=Karlsruhe Gedok Markgrafenstr. 14 Karlsruhe Baden-Württemberg 76131 Deutschland;X-APPLE-RADIUS=500;X-TITLE=Markgrafenstr. 14:geo:8.4104609,49.0078762
END:VEVENT
END:VCALENDAR