BEGIN:VCALENDAR
VERSION:2.0
PRODID:-//Kultur-Artour - Kulturkalender am Oberrhein &amp; Schwarzwald - Online Magazin - ECPv5.9.0//NONSGML v1.0//EN
CALSCALE:GREGORIAN
METHOD:PUBLISH
X-WR-CALNAME:Kultur-Artour - Kulturkalender am Oberrhein &amp; Schwarzwald - Online Magazin
X-ORIGINAL-URL:https://www.kulturartour.de
X-WR-CALDESC:Veranstaltungen für Kultur-Artour - Kulturkalender am Oberrhein &amp; Schwarzwald - Online Magazin
BEGIN:VTIMEZONE
TZID:Europe/Berlin
BEGIN:DAYLIGHT
TZOFFSETFROM:+0100
TZOFFSETTO:+0200
TZNAME:CEST
DTSTART:20240331T010000
END:DAYLIGHT
BEGIN:STANDARD
TZOFFSETFROM:+0200
TZOFFSETTO:+0100
TZNAME:CET
DTSTART:20241027T010000
END:STANDARD
END:VTIMEZONE
BEGIN:VEVENT
DTSTART;TZID=Europe/Berlin:20240317T150000
DTEND;TZID=Europe/Berlin:20240317T150000
DTSTAMP:20260425T214145
CREATED:20240117T172848Z
LAST-MODIFIED:20240117T172848Z
UID:146095-1710687600-1710687600@www.kulturartour.de
SUMMARY:Die Geschichte vom kleinen Onkel - ab 3 J.
DESCRIPTION:
URL:https://www.kulturartour.de/event/die-geschichte-onkel-j/
LOCATION:Pforzheim\, Figurentheater Mottenkäfig\, Pforzheim\, Figurentheater Mottenkäfig\, Pforzheim\, Deutschland
GEO:48.8903536;8.6731688
X-APPLE-STRUCTURED-LOCATION;VALUE=URI;X-ADDRESS=Pforzheim Figurentheater Mottenkäfig Pforzheim Figurentheater Mottenkäfig Pforzheim Deutschland;X-APPLE-RADIUS=500;X-TITLE=Pforzheim\, Figurentheater Mottenkäfig:geo:8.6731688,48.8903536
END:VEVENT
END:VCALENDAR