BEGIN:VCALENDAR
VERSION:2.0
PRODID:-//Kultur-Artour - Kulturkalender am Oberrhein &amp; Schwarzwald - Online Magazin - ECPv5.9.0//NONSGML v1.0//EN
CALSCALE:GREGORIAN
METHOD:PUBLISH
X-WR-CALNAME:Kultur-Artour - Kulturkalender am Oberrhein &amp; Schwarzwald - Online Magazin
X-ORIGINAL-URL:https://www.kulturartour.de
X-WR-CALDESC:Veranstaltungen für Kultur-Artour - Kulturkalender am Oberrhein &amp; Schwarzwald - Online Magazin
BEGIN:VTIMEZONE
TZID:Europe/Berlin
BEGIN:DAYLIGHT
TZOFFSETFROM:+0100
TZOFFSETTO:+0200
TZNAME:CEST
DTSTART:20260329T010000
END:DAYLIGHT
BEGIN:STANDARD
TZOFFSETFROM:+0200
TZOFFSETTO:+0100
TZNAME:CET
DTSTART:20261025T010000
END:STANDARD
END:VTIMEZONE
BEGIN:VEVENT
DTSTART;TZID=Europe/Berlin:20260523T200000
DTEND;TZID=Europe/Berlin:20260523T200000
DTSTAMP:20260424T191710
CREATED:20260416T101200Z
LAST-MODIFIED:20260416T101200Z
UID:195213-1779566400-1779566400@www.kulturartour.de
SUMMARY:"Der Vorname" - nach dem gleichnamigen Film v. Sönke Wortmann - auch 23.5. um 20h
DESCRIPTION:
URL:https://www.kulturartour.de/event/der-vorname-film-soenke/2026-05-23/
LOCATION:Pforzheim\, Kulturhaus Osterfeld\, Pforzheim\, Deutschland
CATEGORIES:Schauspiel
END:VEVENT
END:VCALENDAR