BEGIN:VCALENDAR
VERSION:2.0
PRODID:-//Kultur-Artour - Kulturkalender am Oberrhein &amp; Schwarzwald - Online Magazin - ECPv5.9.0//NONSGML v1.0//EN
CALSCALE:GREGORIAN
METHOD:PUBLISH
X-WR-CALNAME:Kultur-Artour - Kulturkalender am Oberrhein &amp; Schwarzwald - Online Magazin
X-ORIGINAL-URL:https://www.kulturartour.de
X-WR-CALDESC:Veranstaltungen für Kultur-Artour - Kulturkalender am Oberrhein &amp; Schwarzwald - Online Magazin
BEGIN:VTIMEZONE
TZID:Europe/Berlin
BEGIN:DAYLIGHT
TZOFFSETFROM:+0100
TZOFFSETTO:+0200
TZNAME:CEST
DTSTART:20200329T010000
END:DAYLIGHT
BEGIN:STANDARD
TZOFFSETFROM:+0200
TZOFFSETTO:+0100
TZNAME:CET
DTSTART:20201025T010000
END:STANDARD
BEGIN:DAYLIGHT
TZOFFSETFROM:+0100
TZOFFSETTO:+0200
TZNAME:CEST
DTSTART:20210328T010000
END:DAYLIGHT
BEGIN:STANDARD
TZOFFSETFROM:+0200
TZOFFSETTO:+0100
TZNAME:CET
DTSTART:20211031T010000
END:STANDARD
END:VTIMEZONE
BEGIN:VEVENT
DTSTART;VALUE=DATE:20201201
DTEND;VALUE=DATE:20210412
DTSTAMP:20260419T221626
CREATED:20201105T152904Z
LAST-MODIFIED:20201106T005402Z
UID:80611-1606780800-1618185599@www.kulturartour.de
SUMMARY:Der Schatz der Mönche - Leben und Forschen im Kloster St. Blasien
DESCRIPTION:Spitzenwerke der Kunst und Meilensteine früher Wissenschaften: In seiner fast tausendjährigen Geschichte entwickelte sich das Benediktinerkloster St. Blasien im Südschwarzwald zu einer international bedeutenden Stätte der Forschung und baute einen herausragenden Kunstbestand auf. Bei seiner Auflösung 1806 zogen die Mönche nach Österreich und brachten ihr Hab und Gut im Stift St. Paul im Lavanttal in Unterkärnten in Sicherheit. Nun kehrt die weltberühmte Sammlung in ihre Heimatregion zurück: mittelalterliche Goldschmiedearbeiten\, Buchmalereien\, seltene Textilien und Elfenbeinwerke\, barocke Glanzstücke\, Gemälde und Skulpturen.
URL:https://www.kulturartour.de/event/der-schatz-moenche-leben/
LOCATION:Freiburg\, Augustinermuseum\, Freiburg\, Deutschland
END:VEVENT
END:VCALENDAR