BEGIN:VCALENDAR
VERSION:2.0
PRODID:-//Kultur-Artour - Kulturkalender am Oberrhein &amp; Schwarzwald - Online Magazin - ECPv5.9.0//NONSGML v1.0//EN
CALSCALE:GREGORIAN
METHOD:PUBLISH
X-WR-CALNAME:Kultur-Artour - Kulturkalender am Oberrhein &amp; Schwarzwald - Online Magazin
X-ORIGINAL-URL:https://www.kulturartour.de
X-WR-CALDESC:Veranstaltungen für Kultur-Artour - Kulturkalender am Oberrhein &amp; Schwarzwald - Online Magazin
BEGIN:VTIMEZONE
TZID:Europe/Berlin
BEGIN:DAYLIGHT
TZOFFSETFROM:+0100
TZOFFSETTO:+0200
TZNAME:CEST
DTSTART:20260329T010000
END:DAYLIGHT
BEGIN:STANDARD
TZOFFSETFROM:+0200
TZOFFSETTO:+0100
TZNAME:CET
DTSTART:20261025T010000
END:STANDARD
END:VTIMEZONE
BEGIN:VEVENT
DTSTART;TZID=Europe/Berlin:20260628T100000
DTEND;TZID=Europe/Berlin:20260628T220000
DTSTAMP:20260424T211111
CREATED:20260424T141016Z
LAST-MODIFIED:20260424T141016Z
UID:195231-1782640800-1782684000@www.kulturartour.de
SUMMARY:Das Musikfestival Sommersprossen feiert: 30 Jahre Kunststiftung Erich Hauser
DESCRIPTION:Anlässlich des 30jährigen Jubiläums der Kunststiftung Erich Hauser möchten wir gemeinsam feiern und einen offenen\, lebendigen Kulturtag gestalten\, der Musik und bildende Kunst zusammenbringt. \n\n\nEin abwechslungsreiches Programm aus Konzerten\, Kunstworkshops\, Führungen und kulinarischem Angebot lädt zum Verweilen und Entdecken ein. Das musikalische Programm tagsüber gestalten Rottweiler Musiker/-innen und Musikschule gemeinsam mit Festivalkünstlern. Dabei sein werden beispielsweise Simon Strasser\, Fritz Pahlmann\, Janina Ruh\, Ricardo Marini und Benjamin Coyte.\nEs wird das ganze Gelände bespielt\, die Konzerte um 11\, 17 und 20 Uhr finden in der Werkhalle statt. Die Matinee um 11 Uhr und das Abendkonzert sind kostenpflichtig\, alle anderen Angebote und Konzerte sind kostenlos. \n\n10 Uhr: Öffnung des Geländes \n11 Uhr: MATINEE\nVVK 19\,00 € / AK 21\,00 €\nKonzert mit zeitgenössischer Musik\nmit Simon Strasser – Oboe\, Fritz Pahlmann – Horn\, Janina Ruh – Violoncello u.a. \nAb 12:00: Offenes Programm + Kunstangebote \nAb 13.30 bis 16.30 Uhr:\nKurzführungen mit musikalischen Stationen an verschiedenen Orten der Stiftung (Pyramide/ Schwarzes Haus/ Park) \n17 Uhr: Projektkonzert\nTerry Riley (*1935) „In C“\nIn C ist ein frühes Werk der Minimal Music\, das 1964 von Terry Riley komponiert wurde. Die Zahl der Aufführenden und die Dauer\nder Aufführung sind variabel. Das Konzert ist also das Ergebnis eines demokratischen Prozesses!\nOrchesterprojekt mit Musikerinnen und Musiker des Festivalorchesters sowie Profis und Laien aus Rottweil und Umgebung. \n20 Uhr: Abendkonzert\nVVK 29\,00 € / AK 31\,00 €\nKonzert mit Stephan Micus (*1953)\nDer Komponist\, der von Erich Hauser mit der Erstellung experimenteller Musikstücke beauftragt wurde\, die bis heute im Skulpturenpark zu hören sind\, wird in der Werkstatthalle seine vielgestaltigen\, auf unterschiedlichsten Instrumenten aus der ganzen Welt gespielten Werke aufführen.
URL:https://www.kulturartour.de/event/das-musikfestival-sommersprossen-jahre/
LOCATION:Rottweil\, Kunststiftung Erich Hauser\, Saline 36\, Rottweil\, 78628\, Deutschland
CATEGORIES:Jazz und Weltmusik,Konzerte
ORGANIZER;CN="Kulturamt%20Rottweil":MAILTO:kultur@rottweil.de
GEO:48.1479639;8.6365828
X-APPLE-STRUCTURED-LOCATION;VALUE=URI;X-ADDRESS=Rottweil Kunststiftung Erich Hauser Saline 36 Rottweil 78628 Deutschland;X-APPLE-RADIUS=500;X-TITLE=Saline 36:geo:8.6365828,48.1479639
END:VEVENT
END:VCALENDAR