BEGIN:VCALENDAR
VERSION:2.0
PRODID:-//Kultur-Artour - Kulturkalender am Oberrhein &amp; Schwarzwald - Online Magazin - ECPv5.9.0//NONSGML v1.0//EN
CALSCALE:GREGORIAN
METHOD:PUBLISH
X-WR-CALNAME:Kultur-Artour - Kulturkalender am Oberrhein &amp; Schwarzwald - Online Magazin
X-ORIGINAL-URL:https://www.kulturartour.de
X-WR-CALDESC:Veranstaltungen für Kultur-Artour - Kulturkalender am Oberrhein &amp; Schwarzwald - Online Magazin
BEGIN:VTIMEZONE
TZID:Europe/Berlin
BEGIN:DAYLIGHT
TZOFFSETFROM:+0100
TZOFFSETTO:+0200
TZNAME:CEST
DTSTART:20260329T010000
END:DAYLIGHT
BEGIN:STANDARD
TZOFFSETFROM:+0200
TZOFFSETTO:+0100
TZNAME:CET
DTSTART:20261025T010000
END:STANDARD
END:VTIMEZONE
BEGIN:VEVENT
DTSTART;TZID=Europe/Berlin:20260429T190000
DTEND;TZID=Europe/Berlin:20260429T190000
DTSTAMP:20260422T014942
CREATED:20260418T213328Z
LAST-MODIFIED:20260418T213328Z
UID:195369-1777489200-1777489200@www.kulturartour.de
SUMMARY:„Das Gute siegt“ - Lesung und Gespräch
DESCRIPTION:Lesung und Gespräch mit Thomas Weiler zum neuen Roman von Viktor Martinowitsch
URL:https://www.kulturartour.de/event/das-gute-lesung-gespraech/
LOCATION:Rottweil\, Zimmertheater\, Friedrichsplatz 2\, Rottweil\, 78628\, Deutschland
CATEGORIES:Literatur Führungen Vorträge
GEO:48.1681943;8.6272998
X-APPLE-STRUCTURED-LOCATION;VALUE=URI;X-ADDRESS=Rottweil Zimmertheater Friedrichsplatz 2 Rottweil 78628 Deutschland;X-APPLE-RADIUS=500;X-TITLE=Friedrichsplatz 2:geo:8.6272998,48.1681943
END:VEVENT
END:VCALENDAR