BEGIN:VCALENDAR
VERSION:2.0
PRODID:-//Kultur-Artour - Kulturkalender am Oberrhein &amp; Schwarzwald - Online Magazin - ECPv5.9.0//NONSGML v1.0//EN
CALSCALE:GREGORIAN
METHOD:PUBLISH
X-WR-CALNAME:Kultur-Artour - Kulturkalender am Oberrhein &amp; Schwarzwald - Online Magazin
X-ORIGINAL-URL:https://www.kulturartour.de
X-WR-CALDESC:Veranstaltungen für Kultur-Artour - Kulturkalender am Oberrhein &amp; Schwarzwald - Online Magazin
BEGIN:VTIMEZONE
TZID:Europe/Berlin
BEGIN:DAYLIGHT
TZOFFSETFROM:+0100
TZOFFSETTO:+0200
TZNAME:CEST
DTSTART:20260329T010000
END:DAYLIGHT
BEGIN:STANDARD
TZOFFSETFROM:+0200
TZOFFSETTO:+0100
TZNAME:CET
DTSTART:20261025T010000
END:STANDARD
END:VTIMEZONE
BEGIN:VEVENT
DTSTART;VALUE=DATE:20260723
DTEND;VALUE=DATE:20260727
DTSTAMP:20260425T034309
CREATED:20260422T111136Z
LAST-MODIFIED:20260422T184640Z
UID:195526-1784764800-1785110399@www.kulturartour.de
SUMMARY:DAS FEST Karlsruhe - 23. - 26. Juli 2026
DESCRIPTION:Donnerstag\, 23. Juli – Sanft reinkommen\, groß rauskommen\nDer Festival-Auftakt gehört Ivo Martin\, dessen gefühlvoller Pop das Publikum\nvon der ersten Sekunde an verzaubert. Danach dreht Loi mit Hits wie „Gold”\nund „Am I Enough” die Stimmung weiter nach oben – spätestens jetzt singt\ndie ganze Hühgel mit. Den krönenden Abschluss des Abends liefert Nico\nSantos: Welthits\, Energie\, Sommer pur. Willkommen bei DAS FEST 2026! \nFreitag\, 24. Juli – Für alle\, die es etwas lauter mögen\nBlood Red Shoes treten die Tür mit Indie-Rock-Power ein\, Disarstar legt mit\nkompromisslosem Hip-Hop nach – und dann kommen die Beatsteaks nach\nknapp 20 Jahren wieder zu DAS FEST zurück. Die Berliner Punk-Rock-Legenden\nwerden die Günther-Klotz-Anlage buchstäblich zum Beben bringen. Wer\ndanach noch Energie hat: LARI LUKE zum Nightclub sorgt mit dem perfekten\nmusikalischen Ausklang dafür\, dass die Nacht noch lange nicht zu Ende ist. \nSamstag\, 25. Juli – Der perfekte Festivaltag\nCaramuru\, präsentiert vom Popnetz Karlsruhe\, und der von pop.bw\npräsentierte Vincent Varus wärmen auf\, Lara Hulo bringt die\nFestivalstimmung auf Betriebstemperatur – und dann ist es Zeit für Blond\, die\nbereits 2022 bei DAS FEST begeisterten. Zartmann\, der sich mit einer\nemotionaler Mischung aus Rap\, Indie und Pop binnen kurzer Zeit an die\nSpitze der Charts gearbeitet und wurde 2026 als „Domestic Newcomer of\nthe Year“ ausgezeichnet. Mit über 600 Millionen Streams in Deutschland\,\nhat sich Zartmann auf beeindruckende Weise auf die musikalische\nLandkarte gesetzt\, zu der nun auch der Mount Klotz zählt. Seine Songs von\nintrospektiv bis euphorisch werden auf Festivals zu Mitsing-Hymnen.\nZimmer90 schicken beim Nightclub das Publikum anschließend mit frischen\nSounds und Energie in die Samstagnacht. \nSonntag\, 26. Juli – Ein Finale für die Ewigkeit\nDer dm FEST-Tag beginnt klassisch und beschwingt: Der „Mount Klassik” tanzt\nunter der Leitung von Generalmusikdirektor Georg Fritzsch und der\nBadischen Staatskapelle durch Europa. In Kooperation mit dem Jazzclub\nstimmt Rosie Frater-Taylor entspannt auf den Nachmittag ein\, Ray Dalton\ngroovt die Stimmung mit Pop-Soul hoch\, und Leony sorgt mit ihren Pop-Hits\nfür rauschende Mitsing-Momente. Und dann? Dann gehört die Bühne Max\nHerre & Joy Denalane – Soul\, Hip-Hop und pure Magie als krönender\nAbschluss eines unvergesslichen Wochenendes. Besser kann eine\nSommernacht und DAS FEST 2026 nicht enden. \nwww.dasfest.de/tickets \n 
URL:https://www.kulturartour.de/event/das-fest-karlsruhe-juli2026/
LOCATION:Karlsruhe\, Günter-Klotz-Anlage\, Karlsruhe\, Deutschland
CATEGORIES:Jazz und Weltmusik,PopulART
GEO:49.0068901;8.4036527
END:VEVENT
END:VCALENDAR