BEGIN:VCALENDAR
VERSION:2.0
PRODID:-//Kultur-Artour - Kulturkalender am Oberrhein &amp; Schwarzwald - Online Magazin - ECPv5.9.0//NONSGML v1.0//EN
CALSCALE:GREGORIAN
METHOD:PUBLISH
X-WR-CALNAME:Kultur-Artour - Kulturkalender am Oberrhein &amp; Schwarzwald - Online Magazin
X-ORIGINAL-URL:https://www.kulturartour.de
X-WR-CALDESC:Veranstaltungen für Kultur-Artour - Kulturkalender am Oberrhein &amp; Schwarzwald - Online Magazin
BEGIN:VTIMEZONE
TZID:Europe/Berlin
BEGIN:DAYLIGHT
TZOFFSETFROM:+0100
TZOFFSETTO:+0200
TZNAME:CEST
DTSTART:20260329T010000
END:DAYLIGHT
BEGIN:STANDARD
TZOFFSETFROM:+0200
TZOFFSETTO:+0100
TZNAME:CET
DTSTART:20261025T010000
END:STANDARD
END:VTIMEZONE
BEGIN:VEVENT
DTSTART;TZID=Europe/Berlin:20260521T190000
DTEND;TZID=Europe/Berlin:20260521T190000
DTSTAMP:20260420T112143
CREATED:20260330T150450Z
LAST-MODIFIED:20260330T150450Z
UID:194175-1779390000-1779390000@www.kulturartour.de
SUMMARY:Daniela Köhler\, Sopran + Solisten des SWR Symphonieorchesters - Werke v. Mahler: Rückert-Lieder + Rudi Stephan
DESCRIPTION:
URL:https://www.kulturartour.de/event/daniela-koehler-sopran-solisten/
LOCATION:Baden-Baden\, Kurhaus – Weinbrennersaal\, Baden-Baden\, Deutschland
CATEGORIES:Konzerte
GEO:48.76564;8.2285242
END:VEVENT
END:VCALENDAR