BEGIN:VCALENDAR
VERSION:2.0
PRODID:-//Kultur-Artour - Kulturkalender am Oberrhein &amp; Schwarzwald - Online Magazin - ECPv5.9.0//NONSGML v1.0//EN
CALSCALE:GREGORIAN
METHOD:PUBLISH
X-WR-CALNAME:Kultur-Artour - Kulturkalender am Oberrhein &amp; Schwarzwald - Online Magazin
X-ORIGINAL-URL:https://www.kulturartour.de
X-WR-CALDESC:Veranstaltungen für Kultur-Artour - Kulturkalender am Oberrhein &amp; Schwarzwald - Online Magazin
BEGIN:VTIMEZONE
TZID:Europe/Berlin
BEGIN:DAYLIGHT
TZOFFSETFROM:+0100
TZOFFSETTO:+0200
TZNAME:CEST
DTSTART:20260329T010000
END:DAYLIGHT
BEGIN:STANDARD
TZOFFSETFROM:+0200
TZOFFSETTO:+0100
TZNAME:CET
DTSTART:20261025T010000
END:STANDARD
END:VTIMEZONE
BEGIN:VEVENT
DTSTART;TZID=Europe/Berlin:20260426T110000
DTEND;TZID=Europe/Berlin:20260426T170000
DTSTAMP:20260425T132622
CREATED:20260122T221819Z
LAST-MODIFIED:20260313T102433Z
UID:189184-1777201200-1777222800@www.kulturartour.de
SUMMARY:Begegnungen: Von Menschen und Schafen
DESCRIPTION:Bevor die Schafskälte kommt\, geht es bei unserem Schäferaktionstag mit einem vielfältigen Begleitprogramm an die Schafschur. \n\n\n\n11 Uhr\nHeuboden-Akademie: Der Wildberger Schäferlauf \nMit einem beeindruckenden Film stellen unsere Wildberger Freunde eines der größten historischen Feste in Südwestdeutschland vor. \n11 bis 16 Uhr\nOffene Werkstatt für Familien: Wollschafe aus Schafwolle\nWer hat das schönste Schäfchen? Aus Wolle gestaltet ihr heute eines\, das dann ganz allein euch gehört. \n17 Uhr\nStille Zeit \nMit der Botschaft vom guten Hirten lädt Museumspfarrer Hans-Michael Uhl zur besinnlichen Stunde ein.
URL:https://www.kulturartour.de/event/begegnungen-von-menschen-schafen/
LOCATION:Gutach\, Freilichtmuseum Vogtsbauernhof\, Gutach\, Deutschland
CATEGORIES:Highlight Kultur
ATTACH;FMTTYPE=image/jpeg:https://www.kulturartour.de/wp-content/uploads/2026/01/Schaeferaktionstag_Foto-Schwarzwaelder-Freilichtmuseum-Vogtsbauernhof-1.jpg
ORGANIZER;CN="Schwarzw%26auml%3Blder%20Freilichtmuseum%20Vogtsbauernhof":MAILTO:info@vogtsbauernhof.de
END:VEVENT
END:VCALENDAR