BEGIN:VCALENDAR
VERSION:2.0
PRODID:-//Kultur-Artour - Kulturkalender am Oberrhein &amp; Schwarzwald - Online Magazin - ECPv5.9.0//NONSGML v1.0//EN
CALSCALE:GREGORIAN
METHOD:PUBLISH
X-WR-CALNAME:Kultur-Artour - Kulturkalender am Oberrhein &amp; Schwarzwald - Online Magazin
X-ORIGINAL-URL:https://www.kulturartour.de
X-WR-CALDESC:Veranstaltungen für Kultur-Artour - Kulturkalender am Oberrhein &amp; Schwarzwald - Online Magazin
BEGIN:VTIMEZONE
TZID:Europe/Berlin
BEGIN:DAYLIGHT
TZOFFSETFROM:+0100
TZOFFSETTO:+0200
TZNAME:CEST
DTSTART:20260329T010000
END:DAYLIGHT
BEGIN:STANDARD
TZOFFSETFROM:+0200
TZOFFSETTO:+0100
TZNAME:CET
DTSTART:20261025T010000
END:STANDARD
END:VTIMEZONE
BEGIN:VEVENT
DTSTART;TZID=Europe/Berlin:20260514T100000
DTEND;TZID=Europe/Berlin:20260514T170000
DTSTAMP:20260425T171106
CREATED:20260122T221625Z
LAST-MODIFIED:20260313T102203Z
UID:189239-1778752800-1778778000@www.kulturartour.de
SUMMARY:Begegnungen: Religionen im Dialog
DESCRIPTION:Einander zuhören\, untereinander sprechen\, miteinander singen: Wir freuen uns auf Begegnungen mit Repräsentierenden verschiedener\nReligionen. \n10 Uhr\nGottesdienst im Freien\nWir beginnen den Tag mit einem ökumenischen\, von Musik begleiteten\, Gottesdienst unter freiem Himmel. \n13 Uhr\nMiteinander im Gespräch\nEin offener Kreis: Unter der Moderation von Museumspfarrer Hans-Michael Uhl geht es um Fragen des Glaubens und Zweifelns. \n14 bis 16 Uhr\nWiesen im Frühling\nAuch wenn Feiertag ist\, müssen die Wiesen gemäht werden. Zum Glück für uns kommt dafür heute der 1. Sensenmähverein Baden-Württembergs. \n17 Uhr\nStille Zeit\nZum Abschluss des Tages dürfen sich alle\, die noch Momente der Besinnlichkeit suchen\, zur Andacht versammeln.
URL:https://www.kulturartour.de/event/begegnungen-religionen-im-dialog/
LOCATION:Gutach\, Freilichtmuseum Vogtsbauernhof\, Gutach\, Deutschland
CATEGORIES:Literatur Führungen Vorträge
ATTACH;FMTTYPE=image/jpeg:https://www.kulturartour.de/wp-content/uploads/2026/01/Religionen-im-Dialog_Foto-Schwarzwaelder-Freilichtmuseum-Vogtsbauernhof-1.jpg
ORGANIZER;CN="Schwarzw%26auml%3Blder%20Freilichtmuseum%20Vogtsbauernhof":MAILTO:info@vogtsbauernhof.de
END:VEVENT
END:VCALENDAR