BEGIN:VCALENDAR
VERSION:2.0
PRODID:-//Kultur-Artour - Kulturkalender am Oberrhein &amp; Schwarzwald - Online Magazin - ECPv5.9.0//NONSGML v1.0//EN
CALSCALE:GREGORIAN
METHOD:PUBLISH
X-WR-CALNAME:Kultur-Artour - Kulturkalender am Oberrhein &amp; Schwarzwald - Online Magazin
X-ORIGINAL-URL:https://www.kulturartour.de
X-WR-CALDESC:Veranstaltungen für Kultur-Artour - Kulturkalender am Oberrhein &amp; Schwarzwald - Online Magazin
BEGIN:VTIMEZONE
TZID:Europe/Berlin
BEGIN:DAYLIGHT
TZOFFSETFROM:+0100
TZOFFSETTO:+0200
TZNAME:CEST
DTSTART:20260329T010000
END:DAYLIGHT
BEGIN:STANDARD
TZOFFSETFROM:+0200
TZOFFSETTO:+0100
TZNAME:CET
DTSTART:20261025T010000
END:STANDARD
END:VTIMEZONE
BEGIN:VEVENT
DTSTART;TZID=Europe/Berlin:20260501T110000
DTEND;TZID=Europe/Berlin:20260501T170000
DTSTAMP:20260425T181935
CREATED:20260122T221725Z
LAST-MODIFIED:20260313T102556Z
UID:189227-1777633200-1777654800@www.kulturartour.de
SUMMARY:Begegnungen: Mit Musik in den Mai
DESCRIPTION:Ein kleines Schwarzwald-Festival: Die Entersbacher Unterkrainer aus Zell am Harmersbach treffen auf das Vokal-Ensemble Rhythm ‘n‘ Soul aus Oberharmersbach. \n\n\n\n\n11 bis 16 Uhr\nOffene Werkstatt für Familien: Kleine Klangwerkstatt\nInstrumente bauen ganz leicht gemacht: Wir lassen es mit euch schwirren\, summen und zwitschern – das wird was für die Ohren!
URL:https://www.kulturartour.de/event/begegnungen-mit-musik-mai/
LOCATION:Gutach\, Freilichtmuseum Vogtsbauernhof\, Gutach\, Deutschland
CATEGORIES:Highlight Kultur
ATTACH;FMTTYPE=image/jpeg:https://www.kulturartour.de/wp-content/uploads/2026/01/Mit-Musik-in-den-Mai_Foto-Entersbacher-Unterkrainer-1.jpg
ORGANIZER;CN="Schwarzw%26auml%3Blder%20Freilichtmuseum%20Vogtsbauernhof":MAILTO:info@vogtsbauernhof.de
END:VEVENT
END:VCALENDAR