BEGIN:VCALENDAR
VERSION:2.0
PRODID:-//Kultur-Artour - Kulturkalender am Oberrhein &amp; Schwarzwald - Online Magazin - ECPv5.9.0//NONSGML v1.0//EN
CALSCALE:GREGORIAN
METHOD:PUBLISH
X-WR-CALNAME:Kultur-Artour - Kulturkalender am Oberrhein &amp; Schwarzwald - Online Magazin
X-ORIGINAL-URL:https://www.kulturartour.de
X-WR-CALDESC:Veranstaltungen für Kultur-Artour - Kulturkalender am Oberrhein &amp; Schwarzwald - Online Magazin
BEGIN:VTIMEZONE
TZID:Europe/Berlin
BEGIN:DAYLIGHT
TZOFFSETFROM:+0100
TZOFFSETTO:+0200
TZNAME:CEST
DTSTART:20260329T010000
END:DAYLIGHT
BEGIN:STANDARD
TZOFFSETFROM:+0200
TZOFFSETTO:+0100
TZNAME:CET
DTSTART:20261025T010000
END:STANDARD
END:VTIMEZONE
BEGIN:VEVENT
DTSTART;TZID=Europe/Berlin:20260519T190000
DTEND;TZID=Europe/Berlin:20260519T190000
DTSTAMP:20260423T145038
CREATED:20260415T154923Z
LAST-MODIFIED:20260415T154923Z
UID:195148-1779217200-1779217200@www.kulturartour.de
SUMMARY:„Früher Beethoven und empfindsame Romantik“
DESCRIPTION:„Früher Beethoven und empfindsame Romantik“ \nErstaufführungen von Philipp und Xaver Scharwenka Xaver Scharwenka (1850-1924) Sonate in e-Moll für Pianoforte und Violoncell op. 46 1. Fassung mit Violine/Flöte anstelle des Violoncells* Philipp Scharwenka (1847-1917) Romanze & Scherzo Op. 10* Barkarole & Polonaise Op. 52* Ludwig van Beethoven (1770-1827) Serenade D-Dur Op. 41 *Erstaufführungen der Versionen für Flöte und Klavier \nMusik\, Natur und klingender Frühling \nMit den Frühlings-Konzerten im Kunsthaus-Durlach schaffen Kunsthaus-Gründer*innen Chai Min Werner und Johannes Hustedt einen Ort\, der als Gesamtkunstwerk Musik\, Natur\, Ambiente und menschliche Begegnung verbindet. „Alles neu macht der Mai“ und bringt eine Zeit für neue Impulse und musikalische Inspirationen. „Vogelsang\, Hörnerklang“\, Alphorn und Flöte verbinden sich mit Klavier\, Kontrabass\, Akkordeon und Gong zu einer stilistischen Vielfalt von Beethoven bis Gegenwart mit Ausflügen ins Baltikum\, zu Weltmusik und Gipfelklängen. „Macht die Seele frisch und frei“\, in diesem Sinne freuen wir uns auf gemeinsame hochkarätige Klangerlebnisse im Kunsthaus-Durlach. Herzlich willkommen! \nDie Durlacher Frühlingskonzerte sind vom Land Baden-Württemberg als „Green Event BW“ ausgezeichnet worden.  \nEintritt auf Spendenbasis (Richtsatz 20€) \nwww.kunsthaus-durlach.de
URL:https://www.kulturartour.de/event/baltische-impressionen-2/
LOCATION:Karlsruhe\, Kunsthaus-Durlach
CATEGORIES:Konzerte
END:VEVENT
END:VCALENDAR