BEGIN:VCALENDAR
VERSION:2.0
PRODID:-//Kultur-Artour - Kulturkalender am Oberrhein &amp; Schwarzwald - Online Magazin - ECPv5.9.0//NONSGML v1.0//EN
CALSCALE:GREGORIAN
METHOD:PUBLISH
X-WR-CALNAME:Kultur-Artour - Kulturkalender am Oberrhein &amp; Schwarzwald - Online Magazin
X-ORIGINAL-URL:https://www.kulturartour.de
X-WR-CALDESC:Veranstaltungen für Kultur-Artour - Kulturkalender am Oberrhein &amp; Schwarzwald - Online Magazin
BEGIN:VTIMEZONE
TZID:Europe/Berlin
BEGIN:DAYLIGHT
TZOFFSETFROM:+0100
TZOFFSETTO:+0200
TZNAME:CEST
DTSTART:20250330T010000
END:DAYLIGHT
BEGIN:STANDARD
TZOFFSETFROM:+0200
TZOFFSETTO:+0100
TZNAME:CET
DTSTART:20251026T010000
END:STANDARD
BEGIN:DAYLIGHT
TZOFFSETFROM:+0100
TZOFFSETTO:+0200
TZNAME:CEST
DTSTART:20260329T010000
END:DAYLIGHT
BEGIN:STANDARD
TZOFFSETFROM:+0200
TZOFFSETTO:+0100
TZNAME:CET
DTSTART:20261025T010000
END:STANDARD
END:VTIMEZONE
BEGIN:VEVENT
DTSTART;VALUE=DATE:20250524
DTEND;VALUE=DATE:20260915
DTSTAMP:20260424T011258
CREATED:20250524T220617Z
LAST-MODIFIED:20250524T220618Z
UID:175797-1748044800-1789430399@www.kulturartour.de
SUMMARY:Ausstellung: "Our Voices\, Auf den Spuren Bildender Künstlerinnen - 75 Jahre Deutscher Künstlerbund" - im Wilhelm Hack Museum
DESCRIPTION:Mit dieser Ausstellung widmet sich der Deutsche Künstlerbund der Frage nach der Situation von Künstlerinnen seit 1950 und den vielfältigen\, bis heute bestehenden Hindernissen in Bezug auf Gleichstellung im Kunstbetrieb.
URL:https://www.kulturartour.de/event/ausstellung-vom-klang-bilder-2/
LOCATION:Ludwigshafen\, Wilhelm Hack Museum\, Ludwigshafen\, Deutschland
CATEGORIES:Ausstellungen
END:VEVENT
END:VCALENDAR