BEGIN:VCALENDAR
VERSION:2.0
PRODID:-//Kultur-Artour - Kulturkalender am Oberrhein &amp; Schwarzwald - Online Magazin - ECPv5.9.0//NONSGML v1.0//EN
CALSCALE:GREGORIAN
METHOD:PUBLISH
X-WR-CALNAME:Kultur-Artour - Kulturkalender am Oberrhein &amp; Schwarzwald - Online Magazin
X-ORIGINAL-URL:https://www.kulturartour.de
X-WR-CALDESC:Veranstaltungen für Kultur-Artour - Kulturkalender am Oberrhein &amp; Schwarzwald - Online Magazin
BEGIN:VTIMEZONE
TZID:Europe/Berlin
BEGIN:DAYLIGHT
TZOFFSETFROM:+0100
TZOFFSETTO:+0200
TZNAME:CEST
DTSTART:20260329T010000
END:DAYLIGHT
BEGIN:STANDARD
TZOFFSETFROM:+0200
TZOFFSETTO:+0100
TZNAME:CET
DTSTART:20261025T010000
END:STANDARD
END:VTIMEZONE
BEGIN:VEVENT
DTSTART;VALUE=DATE:20260131
DTEND;VALUE=DATE:20260201
DTSTAMP:20260425T144609
CREATED:20260325T065408Z
LAST-MODIFIED:20260325T070538Z
UID:193832-1769817600-1769903999@www.kulturartour.de
SUMMARY:Ausstellung; Siegfried Huber zeigt seine Werke
DESCRIPTION:Die Gemälde zeigen Unterwasserlandschaften und Motive aus Europa und Amerika. \n\n\nSeit über 50 jahren beschäftigt sich Siegfried Huber mit der Malerei. \nEs entstanden weit über 300 Gemälde in Öl\, Kreide\, Tusche\, Aquarell und in den letzten 20 Jahren überwiegend Bilder mit Acrylfarben.
URL:https://www.kulturartour.de/event/ausstellung-siegfried-huber-werke/
LOCATION:Lauf\, Bürgersaal\, Hauptstr. 70\, Lauf\, 77886\, Deutschland
CATEGORIES:Ausstellungen
END:VEVENT
END:VCALENDAR