BEGIN:VCALENDAR
VERSION:2.0
PRODID:-//Kultur-Artour - Kulturkalender am Oberrhein &amp; Schwarzwald - Online Magazin - ECPv5.9.0//NONSGML v1.0//EN
CALSCALE:GREGORIAN
METHOD:PUBLISH
X-WR-CALNAME:Kultur-Artour - Kulturkalender am Oberrhein &amp; Schwarzwald - Online Magazin
X-ORIGINAL-URL:https://www.kulturartour.de
X-WR-CALDESC:Veranstaltungen für Kultur-Artour - Kulturkalender am Oberrhein &amp; Schwarzwald - Online Magazin
BEGIN:VTIMEZONE
TZID:Europe/Berlin
BEGIN:DAYLIGHT
TZOFFSETFROM:+0100
TZOFFSETTO:+0200
TZNAME:CEST
DTSTART:20250330T010000
END:DAYLIGHT
BEGIN:STANDARD
TZOFFSETFROM:+0200
TZOFFSETTO:+0100
TZNAME:CET
DTSTART:20251026T010000
END:STANDARD
BEGIN:DAYLIGHT
TZOFFSETFROM:+0100
TZOFFSETTO:+0200
TZNAME:CEST
DTSTART:20260329T010000
END:DAYLIGHT
BEGIN:STANDARD
TZOFFSETFROM:+0200
TZOFFSETTO:+0100
TZNAME:CET
DTSTART:20261025T010000
END:STANDARD
END:VTIMEZONE
BEGIN:VEVENT
DTSTART;VALUE=DATE:20251121
DTEND;VALUE=DATE:20260413
DTSTAMP:20260423T110823
CREATED:20251002T105804Z
LAST-MODIFIED:20260122T062508Z
UID:183294-1763683200-1776038399@www.kulturartour.de
SUMMARY:Ausstellung „MAL ER\, MAL SIE. Artur Stoll und Olga Jakob“ - im Museum für Neue Kunst Freiburg
DESCRIPTION:Rahmenprogramm: \n19.2.\, 18h Konzert: Schlag auf Schlag \n5.2.\, 18h Perspektivwechsel: Malen fotografieren \n12.2.\, 18h Jour fixe: Im Gespräch mit Gertraud Hurrle \n14.2.\, 15h Kunst: Dialoge: Mal er\, mal sie
URL:https://www.kulturartour.de/event/ausstellung-marta-puppen-pop-2/
LOCATION:Freiburg\, Museum für Neue Kunst\, Freiburg\, Deutschland
CATEGORIES:Ausstellungen
END:VEVENT
END:VCALENDAR