BEGIN:VCALENDAR
VERSION:2.0
PRODID:-//Kultur-Artour - Kulturkalender am Oberrhein &amp; Schwarzwald - Online Magazin - ECPv5.9.0//NONSGML v1.0//EN
CALSCALE:GREGORIAN
METHOD:PUBLISH
X-WR-CALNAME:Kultur-Artour - Kulturkalender am Oberrhein &amp; Schwarzwald - Online Magazin
X-ORIGINAL-URL:https://www.kulturartour.de
X-WR-CALDESC:Veranstaltungen für Kultur-Artour - Kulturkalender am Oberrhein &amp; Schwarzwald - Online Magazin
BEGIN:VTIMEZONE
TZID:Europe/Berlin
BEGIN:DAYLIGHT
TZOFFSETFROM:+0100
TZOFFSETTO:+0200
TZNAME:CEST
DTSTART:20260329T010000
END:DAYLIGHT
BEGIN:STANDARD
TZOFFSETFROM:+0200
TZOFFSETTO:+0100
TZNAME:CET
DTSTART:20261025T010000
END:STANDARD
END:VTIMEZONE
BEGIN:VEVENT
DTSTART;VALUE=DATE:20260424
DTEND;VALUE=DATE:20260601
DTSTAMP:20260423T124822
CREATED:20260413T130107Z
LAST-MODIFIED:20260413T165323Z
UID:194567-1776988800-1780271999@www.kulturartour.de
SUMMARY:Ausstellung „In der Heimat zu Gast“ im A.K.T Pforzheim
DESCRIPTION:die Themen Migration und Identität sind Teil aktueller gesellschaftspolitischer Debatten. Deutschland wurde als Einwanderungsland in den letzten 70 Jahren durch Menschen aus verschiedenen Kulturen geprägt. Ihre Kinder wuchsen hier auf und sind ein selbstverständlicher Teil der Gesellschaft. Dennoch wird ihre Identität und Zugehörigkeit immer wieder hinterfragt. Obwohl sie in Deutschland zu Hause sind\, werden sie nicht zuletzt an ihrer Migrationsgeschichte gemessen\, sie erleben Diskriminierung und gelten sowohl hier als auch in der Heimat ihrer Eltern als „anders“. \nDie Ausstellung „IN DER HEIMAT ZU GAST“ eröffnet am 24. April 2026 und präsentiert Werke von Künstlern\, die Deutschland als ihre Heimat sehen. Als aktiver Teil der Kulturlandschaft tragen sie wesentlich zur demokratischen Emanzipation bei und zeigen\, dass migrantische Kultur ein zentrales Element unserer Gesellschaft ist. \n 
URL:https://www.kulturartour.de/event/ausstellung-in-heimat-gast/
LOCATION:Pforzheim\, A.K.T.\, Theaterstraße 21\, Pforzheim\, 75175\, Deutschland
CATEGORIES:Ausstellungen
GEO:48.8896755;8.7068206
X-APPLE-STRUCTURED-LOCATION;VALUE=URI;X-ADDRESS=Pforzheim A.K.T. Theaterstraße 21 Pforzheim 75175 Deutschland;X-APPLE-RADIUS=500;X-TITLE=Theaterstraße 21:geo:8.7068206,48.8896755
END:VEVENT
END:VCALENDAR