BEGIN:VCALENDAR
VERSION:2.0
PRODID:-//Kultur-Artour - Kulturkalender am Oberrhein &amp; Schwarzwald - Online Magazin - ECPv5.9.0//NONSGML v1.0//EN
CALSCALE:GREGORIAN
METHOD:PUBLISH
X-WR-CALNAME:Kultur-Artour - Kulturkalender am Oberrhein &amp; Schwarzwald - Online Magazin
X-ORIGINAL-URL:https://www.kulturartour.de
X-WR-CALDESC:Veranstaltungen für Kultur-Artour - Kulturkalender am Oberrhein &amp; Schwarzwald - Online Magazin
BEGIN:VTIMEZONE
TZID:Europe/Berlin
BEGIN:DAYLIGHT
TZOFFSETFROM:+0100
TZOFFSETTO:+0200
TZNAME:CEST
DTSTART:20260329T010000
END:DAYLIGHT
BEGIN:STANDARD
TZOFFSETFROM:+0200
TZOFFSETTO:+0100
TZNAME:CET
DTSTART:20261025T010000
END:STANDARD
END:VTIMEZONE
BEGIN:VEVENT
DTSTART;VALUE=DATE:20260828
DTEND;VALUE=DATE:20261010
DTSTAMP:20260423T205318
CREATED:20260113T110002Z
LAST-MODIFIED:20260113T110002Z
UID:189348-1787875200-1791590399@www.kulturartour.de
SUMMARY:Anna-Katharina Rintelen - poetische Traumlandschaften
DESCRIPTION:
URL:https://www.kulturartour.de/event/anna-katharina-rintelen-traumlandschaften/
LOCATION:Rheinfelden\, Rathausgalerie\, Rheinfelden\, Deutschland
CATEGORIES:Ausstellungen
END:VEVENT
END:VCALENDAR