BEGIN:VCALENDAR
VERSION:2.0
PRODID:-//Kultur-Artour - Kulturkalender am Oberrhein &amp; Schwarzwald - Online Magazin - ECPv5.9.0//NONSGML v1.0//EN
CALSCALE:GREGORIAN
METHOD:PUBLISH
X-WR-CALNAME:Kultur-Artour - Kulturkalender am Oberrhein &amp; Schwarzwald - Online Magazin
X-ORIGINAL-URL:https://www.kulturartour.de
X-WR-CALDESC:Veranstaltungen für Kultur-Artour - Kulturkalender am Oberrhein &amp; Schwarzwald - Online Magazin
BEGIN:VTIMEZONE
TZID:Europe/Berlin
BEGIN:DAYLIGHT
TZOFFSETFROM:+0100
TZOFFSETTO:+0200
TZNAME:CEST
DTSTART:20260329T010000
END:DAYLIGHT
BEGIN:STANDARD
TZOFFSETFROM:+0200
TZOFFSETTO:+0100
TZNAME:CET
DTSTART:20261025T010000
END:STANDARD
END:VTIMEZONE
BEGIN:VEVENT
DTSTART;VALUE=DATE:20260418
DTEND;VALUE=DATE:20260420
DTSTAMP:20260424T221237
CREATED:20260219T214052Z
LAST-MODIFIED:20260219T214729Z
UID:192314-1776470400-1776643199@www.kulturartour.de
SUMMARY:Altstadt-Antikmarkt mit verkaufsoffenem Sonntag
DESCRIPTION:Am 18. & 19. April 2026 lädt der Altstadt-Antikmarkt in Villingens historischer Innenstadt zu Antiquitäten\, Trödel & besonderen Schätzen aus vielen Epochen ein.\nHändler aus dem deutschen Südwesten\, der Schweiz und dem Elsass bieten in der herrlichen Kulisse der alten Zähringerstadt\, Antiquitäten aus den letzten Jahrhunderten sowie außergewöhnlichen und anspruchsvollen Trödel und edle Kuriositäten aus Biedermeier\, Jugendstil\, Art Deco und den 50er- & 60er-Jahren an.\nBesucher können so manche Schätze entdecken: Schmuck aus den 20er-Jahren\, wunderschönes Blechspielzeug\, alte Fasnetfundstücke\, originelle Emailschilder\, wertvolle Möbel\, antiquarische Bücher\, altes Werkzeug und vieles\, vieles mehr.
URL:https://www.kulturartour.de/event/altstadt-antikmarkt-mit-verkaufsoffenem-sonntag/
LOCATION:VS-Villingen\, Münsterplatz\, Münsterplatz\, 78050 Villingen-Schwenningen\, 78050\, Deutschland
CATEGORIES:Feste Messen Märkte Infos
ORGANIZER;CN="Stabsstelle%20Stadtmarketing":MAILTO:stadtmarketing@villingen-schwenningen.de
GEO:48.0601165;8.4587431
X-APPLE-STRUCTURED-LOCATION;VALUE=URI;X-ADDRESS=VS-Villingen Münsterplatz Münsterplatz 78050 Villingen-Schwenningen 78050 Deutschland;X-APPLE-RADIUS=500;X-TITLE=Münsterplatz:geo:8.4587431,48.0601165
END:VEVENT
END:VCALENDAR