BEGIN:VCALENDAR
VERSION:2.0
PRODID:-//Kultur-Artour - Kulturkalender am Oberrhein &amp; Schwarzwald - Online Magazin - ECPv5.9.0//NONSGML v1.0//EN
CALSCALE:GREGORIAN
METHOD:PUBLISH
X-WR-CALNAME:Kultur-Artour - Kulturkalender am Oberrhein &amp; Schwarzwald - Online Magazin
X-ORIGINAL-URL:https://www.kulturartour.de
X-WR-CALDESC:Veranstaltungen für Kultur-Artour - Kulturkalender am Oberrhein &amp; Schwarzwald - Online Magazin
BEGIN:VTIMEZONE
TZID:Europe/Berlin
BEGIN:DAYLIGHT
TZOFFSETFROM:+0100
TZOFFSETTO:+0200
TZNAME:CEST
DTSTART:20260329T010000
END:DAYLIGHT
BEGIN:STANDARD
TZOFFSETFROM:+0200
TZOFFSETTO:+0100
TZNAME:CET
DTSTART:20261025T010000
END:STANDARD
END:VTIMEZONE
BEGIN:VEVENT
DTSTART;TZID=Europe/Berlin:20260504T200000
DTEND;TZID=Europe/Berlin:20260504T200000
DTSTAMP:20260426T062336
CREATED:20260116T205122Z
LAST-MODIFIED:20260116T205122Z
UID:189775-1777924800-1777924800@www.kulturartour.de
SUMMARY:Academy of St. Martin in the Fields - Leit: Tomo Keller; Lucas & Arthur Jussen\, Klavierduo - Werke v. Prokofjew\, Mozart\, J.S. Bach\, Haydn
DESCRIPTION:
URL:https://www.kulturartour.de/event/academy-st-martin-fields/
LOCATION:Freiburg\, Konzerthaus
CATEGORIES:Konzerte
END:VEVENT
END:VCALENDAR