BEGIN:VCALENDAR
VERSION:2.0
PRODID:-//Kultur-Artour - Kulturkalender am Oberrhein &amp; Schwarzwald - Online Magazin - ECPv5.9.0//NONSGML v1.0//EN
CALSCALE:GREGORIAN
METHOD:PUBLISH
X-WR-CALNAME:Kultur-Artour - Kulturkalender am Oberrhein &amp; Schwarzwald - Online Magazin
X-ORIGINAL-URL:https://www.kulturartour.de
X-WR-CALDESC:Veranstaltungen für Kultur-Artour - Kulturkalender am Oberrhein &amp; Schwarzwald - Online Magazin
BEGIN:VTIMEZONE
TZID:Europe/Berlin
BEGIN:DAYLIGHT
TZOFFSETFROM:+0100
TZOFFSETTO:+0200
TZNAME:CEST
DTSTART:20260329T010000
END:DAYLIGHT
BEGIN:STANDARD
TZOFFSETFROM:+0200
TZOFFSETTO:+0100
TZNAME:CET
DTSTART:20261025T010000
END:STANDARD
END:VTIMEZONE
BEGIN:VEVENT
DTSTART;VALUE=DATE:20260112
DTEND;VALUE=DATE:20260307
DTSTAMP:20260421T165022
CREATED:20260110T204135Z
LAST-MODIFIED:20260110T204349Z
UID:188830-1768176000-1772841599@www.kulturartour.de
SUMMARY:5 Mal anders - Kunstkolonie Lörrach
DESCRIPTION:Die Ausstellung der Kunstkolonie Lörrach mit dem Titel „5 Mal Anders“ eröffnet das vielseitige Ausstellungsjahr in der Rathausgalerie. Von Montag\, 12. Januar\, bis Freitag\, 6. März\, präsentieren Brigitte Brumunt\, Petra Gallo\, Veronika Panzer\, Sabine Stolz und Susanne Stolz ihre Werke im zweiten Obergeschoss des Rathauses. Die Vernissage findet am Donnerstag\, 15. Januar\, um 18 Uhr statt. Der Eintritt ist frei.
URL:https://www.kulturartour.de/event/5-mal-anders-kunstkolonie-loerrach/
LOCATION:Rheinfelden\, Rathausgalerie\, Rheinfelden\, Deutschland
CATEGORIES:Ausstellungen
END:VEVENT
END:VCALENDAR