BEGIN:VCALENDAR
VERSION:2.0
PRODID:-//Kultur-Artour - Kulturkalender am Oberrhein &amp; Schwarzwald - Online Magazin - ECPv5.9.0//NONSGML v1.0//EN
CALSCALE:GREGORIAN
METHOD:PUBLISH
X-WR-CALNAME:Kultur-Artour - Kulturkalender am Oberrhein &amp; Schwarzwald - Online Magazin
X-ORIGINAL-URL:https://www.kulturartour.de
X-WR-CALDESC:Veranstaltungen für Kultur-Artour - Kulturkalender am Oberrhein &amp; Schwarzwald - Online Magazin
BEGIN:VTIMEZONE
TZID:Europe/Berlin
BEGIN:DAYLIGHT
TZOFFSETFROM:+0100
TZOFFSETTO:+0200
TZNAME:CEST
DTSTART:20260329T010000
END:DAYLIGHT
BEGIN:STANDARD
TZOFFSETFROM:+0200
TZOFFSETTO:+0100
TZNAME:CET
DTSTART:20261025T010000
END:STANDARD
END:VTIMEZONE
BEGIN:VEVENT
DTSTART;TZID=Europe/Berlin:20260704T110000
DTEND;TZID=Europe/Berlin:20260704T180000
DTSTAMP:20260423T191001
CREATED:20260226T140335Z
LAST-MODIFIED:20260226T140430Z
UID:192633-1783162800-1783188000@www.kulturartour.de
SUMMARY:18. Süddeutscher Kunsthandwerkermarkt
DESCRIPTION:Sa. + So.\, 4. + 5.7. 2026 \nIm schönen Ambiente des Kurparks präsentieren rund 70 Aussteller Originelles aus Kunst und Handwerk. Interessierte sind bei freiem Eintritt am Samstag und Sonntag zum entspannten Stöbern eingeladen. Verkauft wird hier ausschließlich Handgemachtes! \nOb Keramik\, Gartendekoration\, Schmuck\, Mode oder Holzkunst – der Markt besticht durch seine Vielfalt. Viele Kunsthandwerker geben durch Workshops und Vorführungen spannende Einblicke in die Fertigung der Produkte. Auf Groß und Klein wartet ein buntes Rahmenprogramm. \nFür das leibliche Wohl wird gesorgt. Der Markt wird von der Kunsthandwerkervereinigung ‘VS-MOSAIK’ in Kooperation mit der WIR Villingen-Schwenningen GmbH organisiert. \nDer Eintritt ist frei!
URL:https://www.kulturartour.de/event/18-sueddeutscher-kunsthandwerkermarkt/
LOCATION:Villingen-Schwenningen\, Villinger Kurpark\, Am Kneippbad 4\, 78050 Villingen-Schwenningen\, 78050\, Deutschland
CATEGORIES:Ausstellungen,Feste Messen Märkte Infos
ORGANIZER;CN="WIR%20Villingen-Schwenningen%20GmbH":MAILTO:events@villingen-schwenningen.de
GEO:48.0672084;8.4365144
X-APPLE-STRUCTURED-LOCATION;VALUE=URI;X-ADDRESS=Villingen-Schwenningen Villinger Kurpark Am Kneippbad 4 78050 Villingen-Schwenningen 78050 Deutschland;X-APPLE-RADIUS=500;X-TITLE=Am Kneippbad 4:geo:8.4365144,48.0672084
END:VEVENT
END:VCALENDAR