BEGIN:VCALENDAR
VERSION:2.0
PRODID:-//Kultur-Artour - Kulturkalender am Oberrhein &amp; Schwarzwald - Online Magazin - ECPv5.9.0//NONSGML v1.0//EN
CALSCALE:GREGORIAN
METHOD:PUBLISH
X-WR-CALNAME:Kultur-Artour - Kulturkalender am Oberrhein &amp; Schwarzwald - Online Magazin
X-ORIGINAL-URL:https://www.kulturartour.de
X-WR-CALDESC:Veranstaltungen für Kultur-Artour - Kulturkalender am Oberrhein &amp; Schwarzwald - Online Magazin
BEGIN:VTIMEZONE
TZID:Europe/Berlin
BEGIN:DAYLIGHT
TZOFFSETFROM:+0100
TZOFFSETTO:+0200
TZNAME:CEST
DTSTART:20260329T010000
END:DAYLIGHT
BEGIN:STANDARD
TZOFFSETFROM:+0200
TZOFFSETTO:+0100
TZNAME:CET
DTSTART:20261025T010000
END:STANDARD
END:VTIMEZONE
BEGIN:VEVENT
DTSTART;VALUE=DATE:20260319
DTEND;VALUE=DATE:20260921
DTSTAMP:20260424T060524
CREATED:20260308T211917Z
LAST-MODIFIED:20260308T211917Z
UID:192887-1773878400-1789948799@www.kulturartour.de
SUMMARY:100 Jahre Fotoclub Rastatt
DESCRIPTION:Zum 100-jährigen Jubiläum des Fotoclubs Rastatt e.V. präsentiert das Stadtmuseum vom 19. März bis 20. September die Sonderausstellung „100 Jahre Fotoclub Rastatt“. Die Ausstellung enthält aktuelle Fotoarbeiten von 13 Vereinsmitgliedern. Sie bietet das gesamte Spektrum der digitalen Fotografie mit klassischen und modernen Motiven. Die ausgestellten Fotografien umfassen Landschaften\, Porträts\, Architektur\, Stillleben\, Tier- und Pflanzenaufnahmen\, Reisebilder\, experimentelle Fotografie und Makroaufnahmen. Führungen und Fotowalks mit den Vereinsmitgliedern ergänzen die Ausstellung. Genauere Informationen zum Begleitprogramm sind unter Stadtmuseum | Rastatt verfügbar. \nAb dem 25. Juni 2026 präsentiert sich die Ausstellung nach einem Bilderwechsel noch einmal in völlig neuem Gewand. Ergänzt wird sie durch eine kleine Auswahl historischer Fotoapparate von 1900 bis in die Gegenwart aus privater Leihgabe. \nDer Fotoclub blickt auf eine lange Tradition zurück. Am 11. März 1926 wurde der Fotoclub Rastatt e.V. als „Verein zur Pflege der Liebhaberphotographie“ in Rastatt gegründet. Der Verein zeigte in seiner Geschichte etliche Ausstellungen\, darunter auch im Stadtmuseum die Ausstellung „Faszination Fotografie“ im Jahr 2016 zum 90-jährigen Jubiläum. Der Verein ist bis heute aktiv und zählt zu den ältesten Fotovereinen Baden-Württembergs. \nÖffnungszeiten Do – Sa 12.00 – 17.00 Uhr\, So und Feiertage 11.00 – 17.00 Uhr
URL:https://www.kulturartour.de/event/100-jahre-fotoclub-rastatt/
LOCATION:Rastatt\, Stadtmuseum\, Herrenstr. 11\, Rastatt\, 76437\, Deutschland
CATEGORIES:Ausstellungen
ORGANIZER;CN="Stadtmuseum%20Rastatt":MAILTO:museen@rastatt.de
GEO:48.8578947;8.2040261
X-APPLE-STRUCTURED-LOCATION;VALUE=URI;X-ADDRESS=Rastatt Stadtmuseum Herrenstr. 11 Rastatt 76437 Deutschland;X-APPLE-RADIUS=500;X-TITLE=Herrenstr. 11:geo:8.2040261,48.8578947
END:VEVENT
END:VCALENDAR